BEGIN:VCALENDAR
VERSION:2.0
PRODID:Caminhada \"Rota das Colmeias\"
X-WR-CALNAME:Caminhada \"Rota das Colmeias\"
X-WR-TIMEZONE:Europe/Lisbon
X-PUBLISHED-TTL:P1W
BEGIN:VTIMEZONE
TZID:Europe/Lisbon
X-LIC-LOCATION:Europe/Lisbon
END:VTIMEZONE
BEGIN:VEVENT
UID:69ea2e96efc31
DTSTART;VALUE=DATE:20260502
SEQUENCE:0
TRANSP:OPAQUE
DTEND;VALUE=DATE:20260503
SUMMARY:Caminhada \"Rota das Colmeias\"
CLASS:PUBLIC
DESCRIPTION:Iniciativa organizada pela União Progressiva da Freguesia do C
 olmeal.&nbsp\;Para mais informações\, visitar o link:&nbsp\;https://www.
 facebook.com/photo?fbid=122221719512307070&amp\;set=a.122095134176307070
X-MICROSOFT-CDO-ALLDAYEVENT:TRUE
DTSTAMP:20260423T143710Z
END:VEVENT
END:VCALENDAR