BEGIN:VCALENDAR
VERSION:2.0
PRODID:Sessão Ordinária da Assembleia de Freguesia
X-WR-CALNAME:Sessão Ordinária da Assembleia de Freguesia
X-WR-TIMEZONE:Europe/Lisbon
X-PUBLISHED-TTL:P1W
BEGIN:VTIMEZONE
TZID:Europe/Lisbon
X-LIC-LOCATION:Europe/Lisbon
END:VTIMEZONE
BEGIN:VEVENT
UID:69ea2e7424fc3
DTSTART;VALUE=DATE:20260428
SEQUENCE:0
TRANSP:OPAQUE
DTEND;VALUE=DATE:20260429
SUMMARY:Sessão Ordinária da Assembleia de Freguesia
CLASS:PUBLIC
DESCRIPTION:A sessão ordinária da Assembleia de Freguesia  da União das
  Freguesias de Cadafaz e Colmeal\, realiza-se pelas 18 horas\, no edifíci
 o-sede- da Junta de Fregiuesia\, localizada na R. Pe. André de Almeida Fr
 eire\, n.º1\, em Colmeal\, de acordo com o Edital publicado.O Público po
 de intervir no ponto designado para o efeito.
X-MICROSOFT-CDO-ALLDAYEVENT:TRUE
DTSTAMP:20260423T143636Z
END:VEVENT
END:VCALENDAR